BEGIN:VCALENDAR
VERSION:2.0
PRODID:-//Fierce County Cider • Puyallup, WA - ECPv6.15.20//NONSGML v1.0//EN
CALSCALE:GREGORIAN
METHOD:PUBLISH
X-WR-CALNAME:Fierce County Cider • Puyallup, WA
X-ORIGINAL-URL:https://www.fiercecounty.com
X-WR-CALDESC:Events for Fierce County Cider • Puyallup, WA
REFRESH-INTERVAL;VALUE=DURATION:PT1H
X-Robots-Tag:noindex
X-PUBLISHED-TTL:PT1H
BEGIN:VTIMEZONE
TZID:UTC
BEGIN:STANDARD
TZOFFSETFROM:+0000
TZOFFSETTO:+0000
TZNAME:UTC
DTSTART:20230101T000000
END:STANDARD
END:VTIMEZONE
BEGIN:VEVENT
DTSTART;TZID=UTC:20241101T200000
DTEND;TZID=UTC:20241101T220000
DTSTAMP:20260420T100506
CREATED:20241004T230654Z
LAST-MODIFIED:20241004T230654Z
UID:2724-1730491200-1730498400@www.fiercecounty.com
SUMMARY:Comedy Night\, November 1
DESCRIPTION:Comedy is back\, Friday\, November 1! Join us at the Fierce County Cider tap house in South Hill for laughs\, hard cider and craft beer as we welcome the following lineup of comedians: \nHEADLINER: TBD\nFEATURE: TBD\nFEATURE: TBD\nHOST: Narin Vann \nTickets are $10 plus taxes and fees\, available online now! \nThis show is 21+ only. Must have a ticket to attend. Seating is not reserved but will be assigned based on group size.
URL:https://www.fiercecounty.com/event/comedy-night-november-1/
LOCATION:Fierce County Cider\, 9918 162nd Street Court East\, Puyallup\, WA\, 98375\, United States
CATEGORIES:Comedy Show
ATTACH;FMTTYPE=image/png:https://www.fiercecounty.com/wp-content/uploads/2024/10/BTT-event-comedy-2-1.png
END:VEVENT
END:VCALENDAR