BEGIN:VCALENDAR
VERSION:2.0
PRODID:-//Fierce County Cider • Puyallup, WA - ECPv6.15.20//NONSGML v1.0//EN
CALSCALE:GREGORIAN
METHOD:PUBLISH
X-ORIGINAL-URL:https://www.fiercecounty.com
X-WR-CALDESC:Events for Fierce County Cider • Puyallup, WA
REFRESH-INTERVAL;VALUE=DURATION:PT1H
X-Robots-Tag:noindex
X-PUBLISHED-TTL:PT1H
BEGIN:VTIMEZONE
TZID:UTC
BEGIN:STANDARD
TZOFFSETFROM:+0000
TZOFFSETTO:+0000
TZNAME:UTC
DTSTART:20230101T000000
END:STANDARD
END:VTIMEZONE
BEGIN:VEVENT
DTSTART;TZID=UTC:20241213T200000
DTEND;TZID=UTC:20241213T220000
DTSTAMP:20260420T082541
CREATED:20241115T003432Z
LAST-MODIFIED:20241115T003432Z
UID:2733-1734120000-1734127200@www.fiercecounty.com
SUMMARY:Comedy Night\, December 13
DESCRIPTION:Comedy is back\, Friday\, December 13! Join us at the Fierce County Cider tap house in South Hill for laughs\, hard cider and craft beer as we welcome the following lineup of comedians: \n\nHEADLINER: Taylor ClarkFEATURE:Mason A. NormanFEATURE:Lisa RimmertHOST: Narin Vann \n\nTickets are $10 plus taxes and fees\, available online now\, or in-person at the Fierce County Cider tasting room during our normal hours.\nThis show is 21+ only. Must have a ticket to attend. Seating is not reserved but will be assigned based on group size.
URL:https://www.fiercecounty.com/event/comedy-night-december-13/
LOCATION:Fierce County Cider\, 9918 162nd Street Court East\, Puyallup\, WA\, 98375\, United States
CATEGORIES:Comedy Show
ATTACH;FMTTYPE=image/png:https://www.fiercecounty.com/wp-content/uploads/2024/11/BTT-event-comedy-2-5.png
END:VEVENT
END:VCALENDAR