BEGIN:VCALENDAR
VERSION:2.0
PRODID:-//Fierce County Cider • Puyallup, WA - ECPv6.15.20//NONSGML v1.0//EN
CALSCALE:GREGORIAN
METHOD:PUBLISH
X-ORIGINAL-URL:https://www.fiercecounty.com
X-WR-CALDESC:Events for Fierce County Cider • Puyallup, WA
REFRESH-INTERVAL;VALUE=DURATION:PT1H
X-Robots-Tag:noindex
X-PUBLISHED-TTL:PT1H
BEGIN:VTIMEZONE
TZID:UTC
BEGIN:STANDARD
TZOFFSETFROM:+0000
TZOFFSETTO:+0000
TZNAME:UTC
DTSTART:20240101T000000
END:STANDARD
END:VTIMEZONE
BEGIN:VEVENT
DTSTART;TZID=UTC:20250301T170000
DTEND;TZID=UTC:20250301T190000
DTSTAMP:20260420T113744
CREATED:20250215T013219Z
LAST-MODIFIED:20250215T013219Z
UID:2802-1740848400-1740855600@www.fiercecounty.com
SUMMARY:Food Truck: Supreme Smash Burgers
DESCRIPTION:Supreme Smash Burgers will be serving up burgers on our patio at Fierce County Cider! Load up on those amazing smash burgers\, and enjoy craft cider made on-site and local craft beer in our family-friendly and dog-friendly tap house.
URL:https://www.fiercecounty.com/event/food-truck-supreme-smash-burgers-8/
CATEGORIES:Food Trucks
ATTACH;FMTTYPE=image/png:https://www.fiercecounty.com/wp-content/uploads/2025/01/Food-Truck-52.png
END:VEVENT
BEGIN:VEVENT
DTSTART;TZID=UTC:20250306T160000
DTEND;TZID=UTC:20250308T190000
DTSTAMP:20260420T113744
CREATED:20250221T024228Z
LAST-MODIFIED:20250221T024228Z
UID:2816-1741276800-1741460400@www.fiercecounty.com
SUMMARY:Girl Scout Cookies + Cider Pairing Flights
DESCRIPTION:It’s Girl Scout Cookie Season and we’re paired those famous\, tasty treats with a flight of Fierce County Ciders! \nThis ($25) cider and cookie flight includes four 5oz ciders and 9 Girl Scout Cookies (5 flavors each)\, each matched to compliment each cider. That’s two cookies of four different flavor plus a special dessert cookie to finish out your tasting. The cider and cookie flights are limited and will sell out\, so reserve your flight seating now! \nThese items are not available for pick-up. In-person\, tasting room only enjoyment. \nCiders included:\n1. Marionberry\n2. Hazy Raspberry\n3. Semi-Sweet Apple\n4. Gin Gin Cran \nCookie flavors included: \n\nSamoas (CRISP COOKIES WITH CARAMEL\, COCONUT\, AND CHOCOLATY STRIPES)\nTagalongs (CRISPY COOKIES LAYERED WITH PEANUT BUTTER AND COVERED WITH A CHOCOLATY COATING)\nAdventurefuls (INDULGENT BROWNIE-INSPIRED COOKIES WITH CARAMEL FLAVORED CRÈME AND A HINT OF SEA SALT)\nGirl Scout S’mores (GRAHAM SANDWICH COOKIES WITH CHOCOLATY AND MARSHMALLOWY FLAVORED FILLING)\nThin Mints (CRISP\, CHOCOLATY COOKIES MADE WITH NATURAL OIL OF PEPPERMINT)
URL:https://www.fiercecounty.com/event/girl-scout-cookies-cider-pairing-flights/
LOCATION:Fierce County Cider\, 9918 162nd Street Court East\, Puyallup\, WA\, 98375\, United States
CATEGORIES:Special Event
ATTACH;FMTTYPE=image/png:https://www.fiercecounty.com/wp-content/uploads/2025/02/GS-Cookie-Pairing-1.png
END:VEVENT
BEGIN:VEVENT
DTSTART;TZID=UTC:20250306T170000
DTEND;TZID=UTC:20250306T190000
DTSTAMP:20260420T113744
CREATED:20250223T012054Z
LAST-MODIFIED:20250223T012054Z
UID:2822-1741280400-1741287600@www.fiercecounty.com
SUMMARY:Food Truck: Bleu Buttahfly
DESCRIPTION:We are thrilled to welcome Bleu Buttahfly Food Truck to Fierce County Cider on Thursday\, March 6! Good Food is Soul Food! Sample menu includes Philly Subs\, Gyros\, Loaded Tots\, Wings and more!\n\nThursday\, March 6 also marks the return of Movie Night – where we’ll be showing The Wedding Singer on our 12′ indoor screen. We open at 4pm\, with the movie started at 5:15pm.
URL:https://www.fiercecounty.com/event/food-truck-bleu-buttahfly/
LOCATION:Fierce County Cider\, 9918 162nd Street Court East\, Puyallup\, WA\, 98375\, United States
CATEGORIES:Food Trucks
ATTACH;FMTTYPE=image/png:https://www.fiercecounty.com/wp-content/uploads/2025/02/Food-Truck-56.png
END:VEVENT
BEGIN:VEVENT
DTSTART;TZID=UTC:20250306T170000
DTEND;TZID=UTC:20250306T190000
DTSTAMP:20260420T113744
CREATED:20250223T012351Z
LAST-MODIFIED:20250223T012351Z
UID:2825-1741280400-1741287600@www.fiercecounty.com
SUMMARY:Movie Night: The Wedding Singer
DESCRIPTION:We’re hosting a free Movie Night at Fierce County Cider! Join us Thursday\, March 6 to enjoy The Wedding Singer on our indoor 12′ screen.\nBleu Buttahfly Food Truck will make its first appearance at the Fierce County Cider patio\, serving up Philly Subs\, Gyros\, Wings and more! Movie starts at 5:15pm.
URL:https://www.fiercecounty.com/event/movie-night-the-wedding-singer/
LOCATION:Fierce County Cider\, 9918 162nd Street Court East\, Puyallup\, WA\, 98375\, United States
CATEGORIES:Special Event
ATTACH;FMTTYPE=image/png:https://www.fiercecounty.com/wp-content/uploads/2025/02/Movie-Night-6-5.png
END:VEVENT
BEGIN:VEVENT
DTSTART;TZID=UTC:20250307T200000
DTEND;TZID=UTC:20250307T220000
DTSTAMP:20260420T113744
CREATED:20250215T014123Z
LAST-MODIFIED:20250215T014123Z
UID:2808-1741377600-1741384800@www.fiercecounty.com
SUMMARY:Comedy Night
DESCRIPTION:Comedy is back\, Friday\, March 7! Join us at the Fierce County Cider tap house in South Hill for laughs\, hard cider and craft beer as we welcome the following lineup of comedians: \nHEADLINER: Simon Kaufman\nFEATURE: Brandon White\nGUEST: Liz Thompson\nHOST: Narin Vann \nTickets are $10 plus taxes and fees\, available online now! \nThis show is 21+ only. Must have a ticket to attend. Seating is not reserved but will be assigned based on group size.
URL:https://www.fiercecounty.com/event/comedy-night-2/
LOCATION:Fierce County Cider\, 9918 162nd Street Court East\, Puyallup\, WA\, 98375\, United States
CATEGORIES:Comedy Show
ATTACH;FMTTYPE=image/png:https://www.fiercecounty.com/wp-content/uploads/2025/02/BTT-event-comedy-1-9.png
END:VEVENT
BEGIN:VEVENT
DTSTART;TZID=UTC:20250308T170000
DTEND;TZID=UTC:20250308T190000
DTSTAMP:20260420T113744
CREATED:20250215T013334Z
LAST-MODIFIED:20250215T013334Z
UID:2804-1741453200-1741460400@www.fiercecounty.com
SUMMARY:Food Truck: Supreme Smash Burgers
DESCRIPTION:Supreme Smash Burgers will be serving up burgers on our patio at Fierce County Cider! Load up on those amazing smash burgers\, and enjoy craft cider made on-site and local craft beer in our family-friendly and dog-friendly tap house.
URL:https://www.fiercecounty.com/event/food-truck-supreme-smash-burgers-9/
LOCATION:Fierce County Cider\, 9918 162nd Street Court East\, Puyallup\, WA\, 98375\, United States
CATEGORIES:Food Trucks
ATTACH;FMTTYPE=image/png:https://www.fiercecounty.com/wp-content/uploads/2025/01/Food-Truck-52.png
END:VEVENT
BEGIN:VEVENT
DTSTART;TZID=UTC:20250308T170000
DTEND;TZID=UTC:20250308T190000
DTSTAMP:20260420T113744
CREATED:20250224T001851Z
LAST-MODIFIED:20250224T001851Z
UID:2830-1741453200-1741460400@www.fiercecounty.com
SUMMARY:Trivia Night!
DESCRIPTION:Game On! There’s a new trivia challenge in town – get ready to challenge your brain at Fierce County Cider! \n\nJoin us for a monthly trivia game that’s packed with 5 thrilling rounds covering everything from history to pop culture and beyond! Teams and solo players welcome – the more the merrier!\n\nMarch 8 Trivia Topics include:\n• General Knowledge• Sports Trivia• Music Trivia• History & Geography• Pop Culture\n\nSip\, Think\, Win!\n\nFierce County Cider is a family-friendly\, dog-friendly tasting room located in Puyallup’s South Hill\, offering hard cider made on-site\, local craft beers and more!
URL:https://www.fiercecounty.com/event/trivia-night/
LOCATION:Fierce County Cider\, 9918 162nd Street Court East\, Puyallup\, WA\, 98375\, United States
CATEGORIES:Trivia
ATTACH;FMTTYPE=image/png:https://www.fiercecounty.com/wp-content/uploads/2025/02/Trivia-Night-2-1.png
END:VEVENT
BEGIN:VEVENT
DTSTART;VALUE=DATE:20250313
DTEND;VALUE=DATE:20250316
DTSTAMP:20260420T113744
CREATED:20250312T151238Z
LAST-MODIFIED:20250312T151238Z
UID:2836-1741824000-1742083199@www.fiercecounty.com
SUMMARY:St. Pat's Weekend
DESCRIPTION:Lucky you\, we’re throwing a St. Patrick’s Weekend Party at Fierce County Cider\, March 13-15!\nWe’re bringing back LIQUID LUCK\, our special edition green + glitter cider (while supplies last)!\n\nFood trucks currently on the schedule:Friday\, 3/14: Tin Hut BBQ 5-7pm\n\nSlainté!
URL:https://www.fiercecounty.com/event/st-pats-weekend/
LOCATION:Fierce County Cider\, 9918 162nd Street Court East\, Puyallup\, WA\, 98375\, United States
CATEGORIES:Cider Release,Special Event
ATTACH;FMTTYPE=image/png:https://www.fiercecounty.com/wp-content/uploads/2025/03/fb-event-stpatsday25.png
END:VEVENT
BEGIN:VEVENT
DTSTART;TZID=UTC:20250313T160000
DTEND;TZID=UTC:20250315T190000
DTSTAMP:20260420T113744
CREATED:20250221T024403Z
LAST-MODIFIED:20250221T024446Z
UID:2819-1741881600-1742065200@www.fiercecounty.com
SUMMARY:Girl Scout Cookies + Cider Pairing Flights
DESCRIPTION:It’s Girl Scout Cookie Season and we’re paired those famous\, tasty treats with a flight of Fierce County Ciders! \nThis ($25) cider and cookie flight includes four 5oz ciders and 9 Girl Scout Cookies (5 flavors each)\, each matched to compliment each cider. That’s two cookies of four different flavor plus a special dessert cookie to finish out your tasting. The cider and cookie flights are limited and will sell out\, so reserve your flight seating now! \nThese items are not available for pick-up. In-person\, tasting room only enjoyment. \nCiders included:\n1. Marionberry\n2. Hazy Raspberry\n3. Semi-Sweet Apple\n4. Gin Gin Cran \nCookie flavors included: \n\nSamoas (CRISP COOKIES WITH CARAMEL\, COCONUT\, AND CHOCOLATY STRIPES)\nTagalongs (CRISPY COOKIES LAYERED WITH PEANUT BUTTER AND COVERED WITH A CHOCOLATY COATING)\nAdventurefuls (INDULGENT BROWNIE-INSPIRED COOKIES WITH CARAMEL FLAVORED CRÈME AND A HINT OF SEA SALT)\nGirl Scout S’mores (GRAHAM SANDWICH COOKIES WITH CHOCOLATY AND MARSHMALLOWY FLAVORED FILLING)\nThin Mints (CRISP\, CHOCOLATY COOKIES MADE WITH NATURAL OIL OF PEPPERMINT)
URL:https://www.fiercecounty.com/event/girl-scout-cookie-cider-pairing-flight/
LOCATION:Fierce County Cider\, 9918 162nd Street Court East\, Puyallup\, WA\, 98375\, United States
CATEGORIES:Special Event
ATTACH;FMTTYPE=image/png:https://www.fiercecounty.com/wp-content/uploads/2025/02/GS-Cookie-Pairing-1.png
END:VEVENT
BEGIN:VEVENT
DTSTART;TZID=UTC:20250314T170000
DTEND;TZID=UTC:20250314T190000
DTSTAMP:20260420T113744
CREATED:20250113T174210Z
LAST-MODIFIED:20250113T174210Z
UID:2787-1741971600-1741978800@www.fiercecounty.com
SUMMARY:Food Truck: Tin Hut BBQ
DESCRIPTION:Tin Hut BBQ Food Truck returns to Fierce County Cider! Tin Hut BBQ is a Disabled Veteran Owned\, Family Operated Business bringing Savory and Delicious BBQ – and it’s sooooo good!\n\nFood served at 5pm. Craft cider made on-site joins local\, craft beer on tap in our family friendly and dog friendly tap house
URL:https://www.fiercecounty.com/event/food-truck-tin-hut-bbq-8/
LOCATION:Fierce County Cider\, 9918 162nd Street Court East\, Puyallup\, WA\, 98375\, United States
CATEGORIES:Food Trucks
ATTACH;FMTTYPE=image/png:https://www.fiercecounty.com/wp-content/uploads/2025/01/Food-Truck-1.png
END:VEVENT
BEGIN:VEVENT
DTSTART;TZID=UTC:20250321T170000
DTEND;TZID=UTC:20250321T190000
DTSTAMP:20260420T113744
CREATED:20250113T174326Z
LAST-MODIFIED:20250113T174326Z
UID:2789-1742576400-1742583600@www.fiercecounty.com
SUMMARY:Food Truck: Tin Hut BBQ
DESCRIPTION:Tin Hut BBQ Food Truck returns to Fierce County Cider! Tin Hut BBQ is a Disabled Veteran Owned\, Family Operated Business bringing Savory and Delicious BBQ – and it’s sooooo good!\n\nFood served at 5pm. Craft cider made on-site joins local\, craft beer on tap in our family friendly and dog friendly tap house
URL:https://www.fiercecounty.com/event/food-truck-tin-hut-bbq-9/
LOCATION:Fierce County Cider\, 9918 162nd Street Court East\, Puyallup\, WA\, 98375\, United States
CATEGORIES:Food Trucks
ATTACH;FMTTYPE=image/png:https://www.fiercecounty.com/wp-content/uploads/2025/01/Food-Truck-1.png
END:VEVENT
BEGIN:VEVENT
DTSTART;TZID=UTC:20250322T170000
DTEND;TZID=UTC:20250322T190000
DTSTAMP:20260420T113744
CREATED:20250215T013434Z
LAST-MODIFIED:20250215T013434Z
UID:2806-1742662800-1742670000@www.fiercecounty.com
SUMMARY:Food Truck: Supreme Smash Burgers
DESCRIPTION:Supreme Smash Burgers will be serving up burgers on our patio at Fierce County Cider! Load up on those amazing smash burgers\, and enjoy craft cider made on-site and local craft beer in our family-friendly and dog-friendly tap house.
URL:https://www.fiercecounty.com/event/food-truck-supreme-smash-burgers-10/
LOCATION:Fierce County Cider\, 9918 162nd Street Court East\, Puyallup\, WA\, 98375\, United States
CATEGORIES:Food Trucks
ATTACH;FMTTYPE=image/png:https://www.fiercecounty.com/wp-content/uploads/2025/01/Food-Truck-52.png
END:VEVENT
BEGIN:VEVENT
DTSTART;TZID=UTC:20250328T180000
DTEND;TZID=UTC:20250328T193000
DTSTAMP:20260420T113744
CREATED:20250315T014913Z
LAST-MODIFIED:20250315T232038Z
UID:2846-1743184800-1743190200@www.fiercecounty.com
SUMMARY:Trivia Night: John's B-Day Edition!
DESCRIPTION:Game On! There’s a new trivia challenge in town – get ready to challenge your brain at Fierce County Cider! \n\nJoin us Friday\, March 28 for our a monthly trivia game that’s packed with 5 thrilling rounds covering everything from history to pop culture and beyond! Teams and solo players welcome – the more the merrier!\n\nMarch 28 Trivia Topics to be announced!\n\nPlus – it’s John’s Birthday (our trivia host and often who you find behind the bar at Fierce County Cider)! Come celebrate with cider\, trivia and perhaps a secret sweet treat!\n\nFierce County Cider is a family-friendly\, dog-friendly tasting room located in Puyallup’s South Hill\, offering hard cider made on-site\, local craft beers and more!
URL:https://www.fiercecounty.com/event/trivia-night-johns-b-day/
LOCATION:Fierce County Cider\, 9918 162nd Street Court East\, Puyallup\, WA\, 98375\, United States
CATEGORIES:Special Event,Trivia
ATTACH;FMTTYPE=image/png:https://www.fiercecounty.com/wp-content/uploads/2025/02/Trivia-Night-2-1.png
END:VEVENT
END:VCALENDAR