BEGIN:VCALENDAR
VERSION:2.0
PRODID:-//Fierce County Cider • Puyallup, WA - ECPv6.15.20//NONSGML v1.0//EN
CALSCALE:GREGORIAN
METHOD:PUBLISH
X-WR-CALNAME:Fierce County Cider • Puyallup, WA
X-ORIGINAL-URL:https://www.fiercecounty.com
X-WR-CALDESC:Events for Fierce County Cider • Puyallup, WA
REFRESH-INTERVAL;VALUE=DURATION:PT1H
X-Robots-Tag:noindex
X-PUBLISHED-TTL:PT1H
BEGIN:VTIMEZONE
TZID:UTC
BEGIN:STANDARD
TZOFFSETFROM:+0000
TZOFFSETTO:+0000
TZNAME:UTC
DTSTART:20240101T000000
END:STANDARD
END:VTIMEZONE
BEGIN:VEVENT
DTSTART;TZID=UTC:20250502T200000
DTEND;TZID=UTC:20250502T220000
DTSTAMP:20260421T145758
CREATED:20250404T162325Z
LAST-MODIFIED:20250404T162325Z
UID:2850-1746216000-1746223200@www.fiercecounty.com
SUMMARY:Comedy Night • May 2
DESCRIPTION:Comedy is back\, Friday\, May 2! Join us at the Fierce County Cider tap house in South Hill for laughs\, hard cider and craft beer as we welcome the following lineup of comedians: \nHEADLINER: Birungi Birungi\nFEATURE: Jay Marks\nGUEST: Andy Harter\nHOST: Narin Vann \nTickets are $10 plus taxes and fees\, available online now! \nThis show is 21+ only. Must have a ticket to attend. Seating is not reserved but will be assigned based on group size.
URL:https://www.fiercecounty.com/event/comedy-night-may-2/
LOCATION:Fierce County Cider\, 9918 162nd Street Court East\, Puyallup\, WA\, 98375\, United States
CATEGORIES:Comedy Show
ATTACH;FMTTYPE=image/png:https://www.fiercecounty.com/wp-content/uploads/2025/04/BTT-event-comedy-1-11.png
END:VEVENT
BEGIN:VEVENT
DTSTART;TZID=UTC:20250503T150000
DTEND;TZID=UTC:20250503T200000
DTSTAMP:20260421T145758
CREATED:20250424T232151Z
LAST-MODIFIED:20250424T232151Z
UID:2874-1746284400-1746302400@www.fiercecounty.com
SUMMARY:Cider Release: Patio Heater (Pineapple Habanero)
DESCRIPTION:It’s back! We’re re-releasing our signature summer sipper\, habanero pineapple cider – called Patio Heater – on Saturday\, May 3. Join us for cider\, craft beer\, and summery island vibes (rain or shine)!
URL:https://www.fiercecounty.com/event/cider-release-patio-heater-pineapple-habanero/
LOCATION:Fierce County Cider\, 9918 162nd Street Court East\, Puyallup\, WA\, 98375\, United States
CATEGORIES:Cider Release
ATTACH;FMTTYPE=image/png:https://www.fiercecounty.com/wp-content/uploads/2025/04/Cider-Release-Patio-Heater-1-2.png
END:VEVENT
BEGIN:VEVENT
DTSTART;TZID=UTC:20250509T180000
DTEND;TZID=UTC:20250509T193000
DTSTAMP:20260421T145758
CREATED:20250421T192014Z
LAST-MODIFIED:20250508T055505Z
UID:2870-1746813600-1746819000@www.fiercecounty.com
SUMMARY:Trivia Night
DESCRIPTION:Game On! There’s a new trivia challenge in town – get ready to challenge your brain at Fierce County Cider! \n\nJoin us for a monthly trivia game that’s packed with 5 thrilling rounds covering everything from history to pop culture and beyond! Teams and solo players welcome – the more the merrier!\n\nMay 9 Trivia Topics:\n\nDisney\nSpace\nBoard Games\nOK\, Boomer\nMusic in the Movies\n\nSip\, Think\, Win!\n\nFierce County Cider is a family-friendly\, dog-friendly tasting room located in Puyallup’s South Hill\, offering hard cider made on-site\, local craft beers and more!
URL:https://www.fiercecounty.com/event/trivia-night-2/
LOCATION:Fierce County Cider\, 9918 162nd Street Court East\, Puyallup\, WA\, 98375\, United States
CATEGORIES:Special Event,Trivia
ATTACH;FMTTYPE=image/png:https://www.fiercecounty.com/wp-content/uploads/2025/02/Trivia-Night-2-1.png
END:VEVENT
BEGIN:VEVENT
DTSTART;TZID=UTC:20250517T170000
DTEND;TZID=UTC:20250517T190000
DTSTAMP:20260421T145758
CREATED:20250503T223453Z
LAST-MODIFIED:20250503T223453Z
UID:2884-1747501200-1747508400@www.fiercecounty.com
SUMMARY:Name That Tune Music Sing-Along
DESCRIPTION:Name that Tune Music Trivia Sing-Along returns to Fierce County Cider on Saturday\, May 17!\n\nThis is a free event. Arrive early & grab your table! We’re open at 3pm on Saturdays\, and the tunes kick off at 5pm.\n\nFierce County Cider offers 8 hard ciders and local craft beers on tap. Our South Hill tap house is family-friendly.\n\nSupreme Smash Burgers Food Truck will be on hand serving up fresh burgers\, fries and more\, 5-7pm.
URL:https://www.fiercecounty.com/event/name-that-tune-music-sing-along-3/
LOCATION:Fierce County Cider\, 9918 162nd Street Court East\, Puyallup\, WA\, 98375\, United States
CATEGORIES:Music,Special Event
ATTACH;FMTTYPE=image/jpeg:https://www.fiercecounty.com/wp-content/uploads/2025/04/491915683_1196998959100844_3641979026381488030_n.jpg
END:VEVENT
BEGIN:VEVENT
DTSTART;TZID=UTC:20250517T170000
DTEND;TZID=UTC:20250517T193000
DTSTAMP:20260421T145758
CREATED:20250514T033813Z
LAST-MODIFIED:20250514T033813Z
UID:2894-1747501200-1747510200@www.fiercecounty.com
SUMMARY:Food Truck: Supreme Smash Burgers
DESCRIPTION:Supreme Smash Burgers will be serving up burgers on our patio at Fierce County Cider! Load up on those amazing smash burgers\, and enjoy craft cider made on-site and local craft beer in our family-friendly and dog-friendly tap house.
URL:https://www.fiercecounty.com/event/food-truck-supreme-smash-burgers-13/
LOCATION:Fierce County Cider\, 9918 162nd Street Court East\, Puyallup\, WA\, 98375\, United States
CATEGORIES:Food Trucks
ATTACH;FMTTYPE=image/png:https://www.fiercecounty.com/wp-content/uploads/2025/01/Food-Truck-52.png
END:VEVENT
BEGIN:VEVENT
DTSTART;VALUE=DATE:20250522
DTEND;VALUE=DATE:20250525
DTSTAMP:20260421T145758
CREATED:20250509T224502Z
LAST-MODIFIED:20250509T224502Z
UID:2890-1747872000-1748131199@www.fiercecounty.com
SUMMARY:Girl Scout Cookies + Cider Pairing
DESCRIPTION:There’s nothing quite like a classic Girl Scout Cookie and we’re paired those famous\, tasty treats with a flight of Fierce County Ciders! \nThis ($25) cider and cookie flight includes four 5oz ciders and 9 Girl Scout Cookies (5 flavors each)\, each matched to compliment each cider. That’s two cookies of four different flavor plus a special dessert cookie to finish out your tasting. The cider and cookie flights are limited and will sell out\, so reserve your flight seating now! \nThese items are not available for pick-up. In-person\, tasting room only enjoyment. \nCiders included:\n1. Marionberry\n2. Semi-Sweet Apple\n3. Cherry Bomb\n4. Patio Heater (Pineapple Habanero) \nCookie flavors included: \n\nSamoas (CRISP COOKIES WITH CARAMEL\, COCONUT\, AND CHOCOLATY STRIPES)\nTagalongs (CRISPY COOKIES LAYERED WITH PEANUT BUTTER AND COVERED WITH A CHOCOLATY COATING)\nAdventurefuls (INDULGENT BROWNIE-INSPIRED COOKIES WITH CARAMEL FLAVORED CRÈME AND A HINT OF SEA SALT)\nGirl Scout S’mores (GRAHAM SANDWICH COOKIES WITH CHOCOLATY AND MARSHMALLOWY FLAVORED FILLING)\nThin Mints (CRISP\, CHOCOLATY COOKIES MADE WITH NATURAL OIL OF PEPPERMINT)
URL:https://www.fiercecounty.com/event/girl-scout-cookies-cider-pairing/
LOCATION:Fierce County Cider\, 9918 162nd Street Court East\, Puyallup\, WA\, 98375\, United States
CATEGORIES:Special Event
ATTACH;FMTTYPE=image/png:https://www.fiercecounty.com/wp-content/uploads/2025/05/GS-Cookie-Pairing-2.png
END:VEVENT
END:VCALENDAR